BEGIN:VCALENDAR
VERSION:2.0
PRODID:-//Support Main Street Illinois - ECPv6.15.17.1//NONSGML v1.0//EN
CALSCALE:GREGORIAN
METHOD:PUBLISH
X-WR-CALNAME:Support Main Street Illinois
X-ORIGINAL-URL:https://supportmainstreetil.org
X-WR-CALDESC:Events for Support Main Street Illinois
REFRESH-INTERVAL;VALUE=DURATION:PT1H
X-Robots-Tag:noindex
X-PUBLISHED-TTL:PT1H
BEGIN:VTIMEZONE
TZID:UTC
BEGIN:STANDARD
TZOFFSETFROM:+0000
TZOFFSETTO:+0000
TZNAME:UTC
DTSTART:20240101T000000
END:STANDARD
END:VTIMEZONE
BEGIN:VEVENT
DTSTART;VALUE=DATE:20251007
DTEND;VALUE=DATE:20251009
DTSTAMP:20260424T092427
CREATED:20250807T192451Z
LAST-MODIFIED:20250807T192451Z
UID:13769-1759795200-1759967999@supportmainstreetil.org
SUMMARY:Global Gaming Expo 2025 (G2E 2025)
DESCRIPTION:Global Gaming Expo 2025 (G2E 2025) \nThis monumentous event is held every year during the first week of October in Las Vegas\, NV. \nPlease watch your inbox for more information regarding IGMOA Events held during the Expo. \nWe look forward to seeing you there!
URL:https://supportmainstreetil.org/event/global-gaming-expo-2025-g2e-2025/
LOCATION:The Venetian Expo\, 201 Sands Ave\, Las Vegas\, NV\, 89169\, United States
END:VEVENT
END:VCALENDAR